BEGIN:VCALENDAR
VERSION:2.0
PRODID:-//Griffith Tennis Club - ECPv6.9.0//NONSGML v1.0//EN
CALSCALE:GREGORIAN
METHOD:PUBLISH
X-ORIGINAL-URL:https://griffithtennisclub.com.au
X-WR-CALDESC:Events for Griffith Tennis Club
REFRESH-INTERVAL;VALUE=DURATION:PT1H
X-Robots-Tag:noindex
X-PUBLISHED-TTL:PT1H
BEGIN:VTIMEZONE
TZID:Australia/Melbourne
BEGIN:STANDARD
TZOFFSETFROM:+1100
TZOFFSETTO:+1000
TZNAME:AEST
DTSTART:20260404T160000
END:STANDARD
BEGIN:DAYLIGHT
TZOFFSETFROM:+1000
TZOFFSETTO:+1100
TZNAME:AEDT
DTSTART:20261003T160000
END:DAYLIGHT
END:VTIMEZONE
BEGIN:VEVENT
DTSTART;VALUE=DATE:20260606
DTEND;VALUE=DATE:20260610
DTSTAMP:20260423T013741
CREATED:20260417T193549Z
LAST-MODIFIED:20260419T201552Z
UID:1482-1780747200-1781006399@griffithtennisclub.com.au
SUMMARY:2026 Griffith MIA Open Tournament
DESCRIPTION:About\nOur flagship annual event – the MIA Open – is coming up this Saturday 6 June to Monday 8 June (King’s birthday long weekend). \nIt’s a wonderful tournament that has been running for over 100 years\, featuring players from all over Australia and catering to all ages/levels from beginner to advanced. It also includes fun social events like parent-child doubles and centenary doubles (where both players’ ages must exceed 100). \nEvents and Entry Forms\nIn 2026 the Griffith MIA Open will be running a combination of local/social events\, as well as Tennis Australia sanctioned OC (Open Community) and J125 events. \nLocal/Social Entry\n– A\, B\, C\, D Grades\, over 45\, 10 & under\, Junior Hotshots \nTo enter these events\, go to CAT Computing:\nhttps://www.92computing.com.au/griffithentry.htm\nPlease Note: Entries close when events are full \nTennis Australia Competitive Play Events Entry\n– Open Community and J125 Series \nTo enter these events\, go to the Tennis NSW Event Page:\nTennis Australia tournament page.\nPlease Note: Entries close Wed 27 May 11:59 PM
URL:https://griffithtennisclub.com.au/event/2026-griffith-mia-open-tournament/
LOCATION:Griffith Tennis Club\, Noorilla St\, Griffith\, 2680
CATEGORIES:Junior Events,Tournaments
ATTACH;FMTTYPE=image/png:https://griffithtennisclub.com.au/wp-content/uploads/2025/04/GTC-MIA-Open-Detailed-Logo-Entries_Now_Open.png
ORGANIZER;CN="Steve Longworth":MAILTO:cat@92computing.com.au
END:VEVENT
END:VCALENDAR