BEGIN:VCALENDAR
VERSION:2.0
PRODID:-//Griffith Tennis Club - ECPv6.9.0//NONSGML v1.0//EN
CALSCALE:GREGORIAN
METHOD:PUBLISH
X-ORIGINAL-URL:https://griffithtennisclub.com.au
X-WR-CALDESC:Events for Griffith Tennis Club
REFRESH-INTERVAL;VALUE=DURATION:PT1H
X-Robots-Tag:noindex
X-PUBLISHED-TTL:PT1H
BEGIN:VTIMEZONE
TZID:Australia/Melbourne
BEGIN:STANDARD
TZOFFSETFROM:+1100
TZOFFSETTO:+1000
TZNAME:AEST
DTSTART:20190406T160000
END:STANDARD
BEGIN:DAYLIGHT
TZOFFSETFROM:+1000
TZOFFSETTO:+1100
TZNAME:AEDT
DTSTART:20191005T160000
END:DAYLIGHT
END:VTIMEZONE
BEGIN:VEVENT
DTSTART;TZID=Australia/Melbourne:20190123T170000
DTEND;TZID=Australia/Melbourne:20190123T210000
DTSTAMP:20260426T043544
CREATED:20190110T040837Z
LAST-MODIFIED:20190110T040837Z
UID:907-1548262800-1548277200@griffithtennisclub.com.au
SUMMARY:Open Day 2019
DESCRIPTION:
URL:https://griffithtennisclub.com.au/event/open-day-2019/
LOCATION:Griffith Tennis Club\, Noorilla St\, Griffith\, 2680
ORGANIZER;CN="Danny Dossetor":MAILTO:dannydossetor@hotmail.com
END:VEVENT
END:VCALENDAR