BEGIN:VCALENDAR
VERSION:2.0
PRODID:-//Griffith Tennis Club - ECPv6.9.0//NONSGML v1.0//EN
CALSCALE:GREGORIAN
METHOD:PUBLISH
X-WR-CALNAME:Griffith Tennis Club
X-ORIGINAL-URL:https://griffithtennisclub.com.au
X-WR-CALDESC:Events for Griffith Tennis Club
REFRESH-INTERVAL;VALUE=DURATION:PT1H
X-Robots-Tag:noindex
X-PUBLISHED-TTL:PT1H
BEGIN:VTIMEZONE
TZID:Australia/Melbourne
BEGIN:STANDARD
TZOFFSETFROM:+1100
TZOFFSETTO:+1000
TZNAME:AEST
DTSTART:20210403T160000
END:STANDARD
BEGIN:DAYLIGHT
TZOFFSETFROM:+1000
TZOFFSETTO:+1100
TZNAME:AEDT
DTSTART:20211002T160000
END:DAYLIGHT
END:VTIMEZONE
BEGIN:VEVENT
DTSTART;TZID=Australia/Melbourne:20210611T183000
DTEND;TZID=Australia/Melbourne:20210611T213000
DTSTAMP:20260424T055754
CREATED:20210526T201721Z
LAST-MODIFIED:20210526T201721Z
UID:1258-1623436200-1623447000@griffithtennisclub.com.au
SUMMARY:MIA Open Centenary Celebration Dinner (limited tickets!)
DESCRIPTION:RSVP by the 4th June – limited to 100 tickets\ninfo@griffithtennisclub.com.au
URL:https://griffithtennisclub.com.au/event/mia-open-centenary-celebration-dinner-limited-tickets/
LOCATION:Northside Griffith Leagues Club\, 255 Wakaden St\, Griffith\, NSW\, 2680\, Australia
ATTACH;FMTTYPE=image/png:https://griffithtennisclub.com.au/wp-content/uploads/2021/05/tennisdinner.png
END:VEVENT
BEGIN:VEVENT
DTSTART;VALUE=DATE:20210612
DTEND;VALUE=DATE:20210615
DTSTAMP:20260424T055754
CREATED:20210412T101155Z
LAST-MODIFIED:20210526T201754Z
UID:1235-1623456000-1623715199@griffithtennisclub.com.au
SUMMARY:100th MIA Open Bronze AMT
DESCRIPTION:Griffith’s longest running sporting event turns 100! \nCome and join us for this historical milestone – there will be plenty of tennis for those of us who like to spectate\, events for those of us who play for fun\, and AMT points events for those of us taking it seriously!
URL:https://griffithtennisclub.com.au/event/100th-mia-open-bronze-amt/
LOCATION:Griffith Tennis Club\, Griffith Tennis Club\, Noorilla St\, Griffith\, NSW\, 2680\, Australia
CATEGORIES:Tournaments
ATTACH;FMTTYPE=image/png:https://griffithtennisclub.com.au/wp-content/uploads/2021/04/GTC-MIA-Open-2021-Detailed-Logo-RGB-72ppi-filledshield.png
ORGANIZER;CN="Danny Dossetor":MAILTO:dannydossetor@hotmail.com
END:VEVENT
END:VCALENDAR