BEGIN:VCALENDAR
VERSION:2.0
PRODID:-//Griffith Tennis Club - ECPv6.9.0//NONSGML v1.0//EN
CALSCALE:GREGORIAN
METHOD:PUBLISH
X-ORIGINAL-URL:https://griffithtennisclub.com.au
X-WR-CALDESC:Events for Griffith Tennis Club
REFRESH-INTERVAL;VALUE=DURATION:PT1H
X-Robots-Tag:noindex
X-PUBLISHED-TTL:PT1H
BEGIN:VTIMEZONE
TZID:Australia/Melbourne
BEGIN:STANDARD
TZOFFSETFROM:+1100
TZOFFSETTO:+1000
TZNAME:AEST
DTSTART:20210403T160000
END:STANDARD
BEGIN:DAYLIGHT
TZOFFSETFROM:+1000
TZOFFSETTO:+1100
TZNAME:AEDT
DTSTART:20211002T160000
END:DAYLIGHT
END:VTIMEZONE
BEGIN:VEVENT
DTSTART;TZID=Australia/Melbourne:20210605T090000
DTEND;TZID=Australia/Melbourne:20210605T140000
DTSTAMP:20260424T055747
CREATED:20210412T102303Z
LAST-MODIFIED:20210412T102615Z
UID:1237-1622883600-1622901600@griffithtennisclub.com.au
SUMMARY:Working Bee (100th MIA Open)
DESCRIPTION:Help us get the courts and clubhouse into shape for the 100th MIA Open! \n9am start – All welcome\, utes/trailers/shovels/pruning shears especially 🙂 \n 
URL:https://griffithtennisclub.com.au/event/working-bee-100th-mia-open/
LOCATION:Griffith Tennis Club\, Griffith Tennis Club\, Noorilla St\, Griffith\, NSW\, 2680\, Australia
ATTACH;FMTTYPE=image/jpeg:https://griffithtennisclub.com.au/wp-content/uploads/2021/04/2c4636f99b150f733fc2a0dd5449414f-1.jpg
END:VEVENT
END:VCALENDAR