BEGIN:VCALENDAR
VERSION:2.0
PRODID:-//Griffith Tennis Club - ECPv6.9.0//NONSGML v1.0//EN
CALSCALE:GREGORIAN
METHOD:PUBLISH
X-WR-CALNAME:Griffith Tennis Club
X-ORIGINAL-URL:https://griffithtennisclub.com.au
X-WR-CALDESC:Events for Griffith Tennis Club
REFRESH-INTERVAL;VALUE=DURATION:PT1H
X-Robots-Tag:noindex
X-PUBLISHED-TTL:PT1H
BEGIN:VTIMEZONE
TZID:Australia/Melbourne
BEGIN:STANDARD
TZOFFSETFROM:+1100
TZOFFSETTO:+1000
TZNAME:AEST
DTSTART:20200404T160000
END:STANDARD
BEGIN:DAYLIGHT
TZOFFSETFROM:+1000
TZOFFSETTO:+1100
TZNAME:AEDT
DTSTART:20201003T160000
END:DAYLIGHT
END:VTIMEZONE
BEGIN:VEVENT
DTSTART;TZID=Australia/Melbourne:20200309T193000
DTEND;TZID=Australia/Melbourne:20200309T203000
DTSTAMP:20260425T070354
CREATED:20200301T182425Z
LAST-MODIFIED:20200301T182425Z
UID:1166-1583782200-1583785800@griffithtennisclub.com.au
SUMMARY:Annual General Meeting for Griffith Tennis Club Inc.
DESCRIPTION:All members welcome \n…and anyone who would like to get involved by joining the committee to help tennis flourish in Griffith are especially welcome!
URL:https://griffithtennisclub.com.au/event/annual-general-meeting-for-griffith-tennis-club-inc/
LOCATION:Griffith Tennis Club\, Griffith Tennis Club\, Noorilla St\, Griffith\, NSW\, 2680\, Australia
END:VEVENT
END:VCALENDAR